BEGIN:VCALENDAR
VERSION:2.0
PRODID:-//OmniMagnetCalendar//EN
BEGIN:VEVENT
DTSTAMP:20190625T195740Z
STATUS:CONFIRMED
UID:hcvietnam.clubs.harvard.edu117
DTSTART:20230316T103000Z
DTEND:20230316T130000Z
LOCATION:Mua Craft Sake, 7 Le Ngo Cat, District 3, Ho Chi Minh City, State, 700000, Vietnam,
SUMMARY:Global Networking Night 2023
DESCRIPTION:We are delighted to extend our warmest invitation to you for the first annual Global Networking Night 2023, hosted by the Harvard Alumni Club of Vietnam.
BEGIN:VALARM
TRIGGER:-PT15M
ACTION:DISPLAY
END:VALARM
TRANSP:OPAQUE
END:VEVENT
END:VCALENDAR
