BEGIN:VCALENDAR
VERSION:2.0
PRODID:-//OmniMagnetCalendar//EN
BEGIN:VEVENT
DTSTAMP:20190625T195740Z
STATUS:CONFIRMED
UID:hcvietnam.clubs.harvard.edu118
DTSTART:20240531T103000Z
DTEND:20240531T133000Z
LOCATION:
SUMMARY:Harvard Alumni Day 2024
DESCRIPTION:We were extending our warmest invitation to you for the local celebration in Vietnam in honor of the annual Harvard Alumni Day this spring!
BEGIN:VALARM
TRIGGER:-PT15M
ACTION:DISPLAY
END:VALARM
TRANSP:OPAQUE
END:VEVENT
END:VCALENDAR
