BEGIN:VCALENDAR
VERSION:2.0
PRODID:-//OmniMagnetCalendar//EN
BEGIN:VEVENT
DTSTAMP:20190625T195740Z
STATUS:CONFIRMED
UID:hcvietnam.clubs.harvard.edu119
DTSTART:20240131T220000Z
DTEND:20240201T010000Z
LOCATION:
SUMMARY:Lunar Year-End Get Together
DESCRIPTION:Let's celebrate the coming Year of the Dragon with an evening of friendship and camaraderie!
BEGIN:VALARM
TRIGGER:-PT15M
ACTION:DISPLAY
END:VALARM
TRANSP:OPAQUE
END:VEVENT
END:VCALENDAR
