BEGIN:VCALENDAR
VERSION:2.0
PRODID:-//OmniMagnetCalendar//EN
BEGIN:VEVENT
DTSTAMP:20190625T195740Z
STATUS:CONFIRMED
UID:hcvietnam.clubs.harvard.edu120
DTSTART:20240313T103000Z
DTEND:20240313T133000Z
LOCATION:
SUMMARY:Global Networking Night 2024
DESCRIPTION:This event was the annual Global Networking Night 2024 and promised to be a night of networking and idea sharing, bringing together Harvard alumni who currently in Vietnam.
BEGIN:VALARM
TRIGGER:-PT15M
ACTION:DISPLAY
END:VALARM
TRANSP:OPAQUE
END:VEVENT
END:VCALENDAR
