BEGIN:VCALENDAR
VERSION:2.0
PRODID:-//OmniMagnetCalendar//EN
BEGIN:VEVENT
DTSTAMP:20190625T195740Z
STATUS:CONFIRMED
UID:hcvietnam.clubs.harvard.edu122
DTSTART:20241218T100000Z
DTEND:20241218T123000Z
LOCATION:Suzu Saigon Hotel - Yu-Su Bar, 16 Ngo Van Nam, Ben Nghe Ward, District 1, Ho Chi Minh City, State, 700000, Vietnam,
SUMMARY:Holiday Happy Hour 2024
DESCRIPTION:Let’s get together to share a little bit of holiday and end of year cheer!
BEGIN:VALARM
TRIGGER:-PT15M
ACTION:DISPLAY
END:VALARM
TRANSP:OPAQUE
END:VEVENT
END:VCALENDAR
