BEGIN:VCALENDAR
VERSION:2.0
PRODID:-//OmniMagnetCalendar//EN
BEGIN:VEVENT
DTSTAMP:20190625T195740Z
STATUS:CONFIRMED
UID:hcvietnam.clubs.harvard.edu144
DTSTART:20250319T100000Z
DTEND:20250319T123000Z
LOCATION:Papaya Papa Bar, 13th floor, 147 Hai Ba Trung , DISTRICT 3, HO CHI MINH CITY, VIETNAM,
SUMMARY:Global Networking Night 2025
DESCRIPTION:Dear Harvard Alumni in Vietnam, We are delighted to invite you to the Harvard Global Networking Night 2025, a special event designed to bring together our vibrant alumni community worldwide.
BEGIN:VALARM
TRIGGER:-PT15M
ACTION:DISPLAY
END:VALARM
TRANSP:OPAQUE
END:VEVENT
END:VCALENDAR
