BEGIN:VCALENDAR
VERSION:2.0
PRODID:-//OmniMagnetCalendar//EN
BEGIN:VEVENT
DTSTAMP:20190625T195740Z
STATUS:CONFIRMED
UID:hcvietnam.clubs.harvard.edu145
DTSTART:20231113T110000Z
DTEND:20231113T140000Z
LOCATION:Bandido Saigon - Rooftop Floor, 24 Bis Dong Du, District 1, Ho Chi Minh City, 70000, Vietnam,
SUMMARY:Networking Night 2023
DESCRIPTION:Dear Harvard Alumni in Vietnam,  We are delighted to invite you to our Harvard Networking Night, taking place at Bandido Saigon, 24 Bis Dong Du, District 1, HCMC, on Monday, November 13, 2023, at 6:00 PM.
BEGIN:VALARM
TRIGGER:-PT15M
ACTION:DISPLAY
END:VALARM
TRANSP:OPAQUE
END:VEVENT
END:VCALENDAR
